BEGIN:VCALENDAR
VERSION:2.0
PRODID:-//ChamberMaster//Event Calendar 2.0//EN
METHOD:PUBLISH
X-PUBLISHED-TTL:P3D
REFRESH-INTERVAL:P3D
CALSCALE:GREGORIAN
BEGIN:VEVENT
DTSTART:20150626T200000Z
DTEND:20150628T200000Z
X-MICROSOFT-CDO-ALLDAYEVENT:FALSE
SUMMARY:Health & Healing Crusade
DESCRIPTION:This year's Health and Healing Crusade is bringing together a delightful group of individuals with a passion for helping people become all they can be physically\, emotionally\, and spiritually. FREE admission! keynote speaker: Dr. Shearer has one of five Neurosensory Centers of America practices in the country\, where neurologic and immune disorders are tested and treated using the advanced therapies afforded by understanding methylation deficiencies.
X-ALT-DESC;FMTTYPE=text/html:This year&#39\;s Health and Healing Crusade is bringing together a delightful group of individuals with a passion for helping people become all they can be physically\, emotionally\, and spiritually. FREE admission! keynote speaker: Dr. Shearer has one of five Neurosensory Centers of America practices in the country\, where neurologic and immune disorders are tested and treated using the advanced therapies afforded by understanding methylation deficiencies.
LOCATION:Lodi Grape festival grounds 413 E Lockeford St\, Lodi\, CA 95240
UID:e.2050.831
SEQUENCE:3
DTSTAMP:20260421T004232Z
URL:https://business.lodichamber.com/events/details/health-healing-crusade-06-26-2015-831
END:VEVENT

END:VCALENDAR
