BEGIN:VCALENDAR
VERSION:2.0
PRODID:-//ChamberMaster//Event Calendar 2.0//EN
METHOD:PUBLISH
X-PUBLISHED-TTL:P3D
REFRESH-INTERVAL:P3D
CALSCALE:GREGORIAN
BEGIN:VEVENT
DTSTART:20140913T150000Z
DTEND:20140913T190000Z
X-MICROSOFT-CDO-ALLDAYEVENT:FALSE
SUMMARY:Health & Wellness Family Festival at Lodi Lake & TRIX Run
DESCRIPTION:Come visit 100 vendors of Health & Wellness products\, services and information. Come for the 21st Annual TRIX Run and stay and learn how to improve your health!
X-ALT-DESC;FMTTYPE=text/html:Come visit 100 vendors of Health &amp\; Wellness products\, services and information. Come for the 21st Annual TRIX Run and stay and learn how to improve your health!
LOCATION:Lodi Lake
UID:e.2050.292
SEQUENCE:3
DTSTAMP:20260421T145103Z
URL:https://business.lodichamber.com/events/details/health-wellness-family-festival-at-lodi-lake-trix-run-09-13-2014-292
END:VEVENT

END:VCALENDAR
