BEGIN:VCALENDAR
VERSION:2.0
PRODID:-//ChamberMaster//Event Calendar 2.0//EN
METHOD:PUBLISH
X-PUBLISHED-TTL:P3D
REFRESH-INTERVAL:P3D
CALSCALE:GREGORIAN
BEGIN:VEVENT
DTSTART:20140726T020000Z
DTEND:20140726T040000Z
X-MICROSOFT-CDO-ALLDAYEVENT:FALSE
SUMMARY:Henry Kapono
DESCRIPTION:Henry Kapono Ka'aihue is an award winning and Grammy nominated singer/songwriter. He has taken home numerous Na Hoku Hano Hano Awards (Hawaii's equivalent of the Grammy's) including Male Vocalist of the Year\, Song of the Year\, Single of the Year\, and Album of the Year. He is also the author of the award winning children's book\, A Beautiful Hawaiian Day\, has appeared in the films\, Damien and Waterworld and has made many television appearances. Kirst Hall is the setting where beverages will be for sale
X-ALT-DESC;FMTTYPE=text/html:Henry Kapono Ka&#39\;aihue is an award winning and Grammy nominated singer/songwriter. He has taken home numerous Na Hoku Hano Hano Awards (Hawaii&#39\;s equivalent of the Grammy&#39\;s) including Male Vocalist of the Year\, Song of the Year\, Single of the Year\, and Album of the Year. He is also the author of the award winning children&#39\;s book\, A Beautiful Hawaiian Day\, has appeared in the films\, Damien and Waterworld and has made many television appearances. Kirst Hall is the setting where beverages will be for sale
LOCATION:Hutchins Street Square 125 S. Hutchins St. Lodi\, CA 95240
UID:e.2050.280
SEQUENCE:3
DTSTAMP:20260421T162447Z
URL:https://business.lodichamber.com/events/details/henry-kapono-07-25-2014-280
END:VEVENT

END:VCALENDAR
