BEGIN:VCALENDAR
VERSION:2.0
PRODID:-//ChamberMaster//Event Calendar 2.0//EN
METHOD:PUBLISH
X-PUBLISHED-TTL:P3D
REFRESH-INTERVAL:P3D
CALSCALE:GREGORIAN
BEGIN:VEVENT
DTSTART:20141207T030000Z
DTEND:20141207T040000Z
X-MICROSOFT-CDO-ALLDAYEVENT:FALSE
SUMMARY:Holiday Variety Show: Engaging the Christmas Spirit
DESCRIPTION:Come and enjoy a series of skits and songs called the Holiday Variety Show: Engaging the Christmas Spirit! We are performing on December 6th\, at 7pm\, at Bear Creek Community Church. Entrance is FREE\, donations are accepted\, and desserts will be for sale. The proceeds will benefit the Young Adult Ministry from Emanual Lutheran Church and Bear Creek Community Church of Lodi. In January 2015\, the Young Adults will join 60\,000 others in Atlanta\, Georgia\, for the Passion Conference where they will hear from prominent spiritual leaders and worship together. Bear Creek Community Church is located at: 11171 N Lower Sacramento Rd\, Lodi\, CA 95242. Contact Amanda at 209-951-9229 or email amandachurches@bearcreekchurch.com with any questions!
X-ALT-DESC;FMTTYPE=text/html:Come and enjoy a series of skits and songs called the Holiday Variety Show: Engaging the Christmas Spirit! We are performing on December 6th\, at 7pm\, at Bear Creek Community Church. Entrance is FREE\, donations are accepted\, and desserts will be for sale. The proceeds will benefit the Young Adult Ministry from Emanual Lutheran Church and Bear Creek Community Church of Lodi. In January 2015\, the Young Adults will join 60\,000 others in Atlanta\, Georgia\, for the Passion Conference where they will hear from prominent spiritual leaders and worship together. Bear Creek Community Church is located at: 11171 N Lower Sacramento Rd\, Lodi\, CA 95242. Contact Amanda at 209-951-9229 or email amandachurches@bearcreekchurch.com with any questions!
LOCATION:Bear Creek Community Church 11171 N Lower Sacramento Rd Lodi\, CA 95242
UID:e.2050.345
SEQUENCE:3
DTSTAMP:20260421T102403Z
URL:https://business.lodichamber.com/events/details/holiday-variety-show-engaging-the-christmas-spirit-12-06-2014-345
END:VEVENT

END:VCALENDAR
