BEGIN:VCALENDAR
VERSION:2.0
PRODID:-//ChamberMaster//Event Calendar 2.0//EN
METHOD:PUBLISH
X-PUBLISHED-TTL:P3D
REFRESH-INTERVAL:P3D
CALSCALE:GREGORIAN
BEGIN:VEVENT
DTSTART:20141204T020000Z
DTEND:20141204T023000Z
X-MICROSOFT-CDO-ALLDAYEVENT:FALSE
SUMMARY:Hospice of San Joaquin\, Tree of Lights\, Lockeford
DESCRIPTION:Hospice of San Joaquin 9th Annual Tree of Lights\, Tree Lighting Ceremony in Lockeford / Clements. The Lockeford Clements Tree is hosted by the Lockeford District Grange # 579\, at Wells Fargo Bank at 19000 N Hwy 88\, Lockeford a the corner of Hwy 88 and Jack Tone Road. Community members are welcomed to dedicate a light in honor or in memory of a loved one by donating to Hospice of San Joaquin. To dedicate a light call (209) 957-3888 or visit www.hospicesj.org Dedicated lights are listed on the memory board at the tree. Memory boards are regularly updated. Hospice of San Joaquin is the oldest not-for-profit hospice agency serving San Joaquin County. Tree of Lights are also in Stockton\, Lodi\, Tracy\, Manteca\, Ripon\, and Rio Vista.
X-ALT-DESC;FMTTYPE=text/html:Hospice of San Joaquin 9th Annual Tree of Lights\, Tree Lighting Ceremony in Lockeford / Clements. The Lockeford Clements Tree is hosted by the Lockeford District Grange # 579\, at Wells Fargo Bank at 19000 N Hwy 88\, Lockeford a the corner of Hwy 88 and Jack Tone Road. Community members are welcomed to dedicate a light in honor or in memory of a loved one by donating to Hospice of San Joaquin. To dedicate a light call (209) 957-3888 or visit www.hospicesj.org Dedicated lights are listed on the memory board at the tree. Memory boards are regularly updated. Hospice of San Joaquin is the oldest not-for-profit hospice agency serving San Joaquin County. Tree of Lights are also in Stockton\, Lodi\, Tracy\, Manteca\, Ripon\, and Rio Vista.
LOCATION:Wells Fargo Bank 19000 N Hwy 88 Lockeford
UID:e.2050.327
SEQUENCE:3
DTSTAMP:20260421T091400Z
URL:https://business.lodichamber.com/events/details/hospice-of-san-joaquin-tree-of-lights-lockeford-12-03-2014-327
END:VEVENT

END:VCALENDAR
