BEGIN:VCALENDAR
VERSION:2.0
PRODID:-//ChamberMaster//Event Calendar 2.0//EN
METHOD:PUBLISH
X-PUBLISHED-TTL:P3D
REFRESH-INTERVAL:P3D
CALSCALE:GREGORIAN
BEGIN:VEVENT
DTSTART:20141205T013000Z
DTEND:20141205T020000Z
X-MICROSOFT-CDO-ALLDAYEVENT:FALSE
SUMMARY:Hospice of San Joaquin\, Tree of Lights\, Lodi
DESCRIPTION:Hospice of San Joaquin 22nd Annual Tree of Lights\, Tree Lighting Ceremony in Lodi\, The Lodi Tree of Lights is hosted by the City of Lodi\, at 221 W Pine Street. Community members are welcomed to dedicate a light in honor or in memory of a loved one by donating to Hospice of San Joaquin. To dedicate a light call (209) 957-3888 or visit www.hospicesj.org Dedicated lights are listed on the memory board at the tree. Memory boards are regularly updated. Hospice of San Joaquin is the oldest not-for-profit hospice agency serving San Joaquin County. Tree of Lights are also in Stockton\, Lockeford\, Tracy\, Manteca\, Ripon\, and Rio Vista.
X-ALT-DESC;FMTTYPE=text/html:Hospice of San Joaquin 22nd Annual Tree of Lights\, Tree Lighting Ceremony in Lodi\, The Lodi Tree of Lights is hosted by the City of Lodi\, at 221 W Pine Street. Community members are welcomed to dedicate a light in honor or in memory of a loved one by donating to Hospice of San Joaquin. To dedicate a light call (209) 957-3888 or visit www.hospicesj.org Dedicated lights are listed on the memory board at the tree. Memory boards are regularly updated. Hospice of San Joaquin is the oldest not-for-profit hospice agency serving San Joaquin County. Tree of Lights are also in Stockton\, Lockeford\, Tracy\, Manteca\, Ripon\, and Rio Vista.
LOCATION:City Hall 221 W Pine Street\, Lodi
UID:e.2050.326
SEQUENCE:3
DTSTAMP:20260421T091217Z
URL:https://business.lodichamber.com/events/details/hospice-of-san-joaquin-tree-of-lights-lodi-12-04-2014-326
END:VEVENT

END:VCALENDAR
