BEGIN:VCALENDAR
VERSION:2.0
PRODID:-//ChamberMaster//Event Calendar 2.0//EN
METHOD:PUBLISH
X-PUBLISHED-TTL:P3D
REFRESH-INTERVAL:P3D
CALSCALE:GREGORIAN
BEGIN:VEVENT
DTSTART:20140601T020000Z
DTEND:20140601T040000Z
X-MICROSOFT-CDO-ALLDAYEVENT:FALSE
SUMMARY:Howard Hewett
DESCRIPTION:Becoming one-third of Shalamar in 1979 and producing several big hits\, Hewett departed for a solo career in 1985. His second single\, "I'm for Real\," an the follow-up single\, "Stay\," made the Top Ten\, while "I Commit to Love" reached number 12. Hewitt continued to record through the '80s and into the '90s\, earning another hit with "Strange Relationship" He is also known as a busy writer\, producer\, and session vocalist. Presented by SMA Entertainment
X-ALT-DESC;FMTTYPE=text/html:Becoming one-third of Shalamar in 1979 and producing several big hits\, Hewett departed for a solo career in 1985. His second single\, &quot\;I&#39\;m for Real\,&quot\; an the follow-up single\, &quot\;Stay\,&quot\; made the Top Ten\, while &quot\;I Commit to Love&quot\; reached number 12. Hewitt continued to record through the &#39\;80s and into the &#39\;90s\, earning another hit with &quot\;Strange Relationship&quot\; He is also known as a busy writer\, producer\, and session vocalist. Presented by SMA Entertainment
LOCATION:Hutchins Street Square
UID:e.2050.262
SEQUENCE:3
DTSTAMP:20260421T190748Z
URL:https://business.lodichamber.com/events/details/howard-hewett-05-31-2014-262
END:VEVENT

END:VCALENDAR
