BEGIN:VCALENDAR
VERSION:2.0
PRODID:-//ChamberMaster//Event Calendar 2.0//EN
METHOD:PUBLISH
X-PUBLISHED-TTL:P3D
REFRESH-INTERVAL:P3D
CALSCALE:GREGORIAN
BEGIN:VEVENT
DTSTART:20150319T020000Z
DTEND:20150319T040000Z
X-MICROSOFT-CDO-ALLDAYEVENT:FALSE
SUMMARY:In The Mood
DESCRIPTION:Much more than just a concert\, IN THE MOOD is a fully staged tribute to Glenn Miller\, Tommy Dorsey\, Benny Goodman and all the big band greats of the '40s.
X-ALT-DESC;FMTTYPE=text/html:Much more than just a concert\, IN THE MOOD is a fully staged tribute to Glenn Miller\, Tommy Dorsey\, Benny Goodman and all the big band greats of the &#39\;40s.
LOCATION:Hutchins Street Square 125 S. Hutchins St. Lodi\, CA 95240
UID:e.2050.363
SEQUENCE:3
DTSTAMP:20260421T042913Z
URL:https://business.lodichamber.com/events/details/in-the-mood-03-18-2015-363
END:VEVENT

END:VCALENDAR
