BEGIN:VCALENDAR
VERSION:2.0
PRODID:-//ChamberMaster//Event Calendar 2.0//EN
METHOD:PUBLISH
X-PUBLISHED-TTL:P3D
REFRESH-INTERVAL:P3D
CALSCALE:GREGORIAN
BEGIN:VEVENT
DTSTART:20150505T160000Z
DTEND:20150507T230000Z
X-MICROSOFT-CDO-ALLDAYEVENT:FALSE
SUMMARY:Jeannie Vodden's Watercolor Workshop
DESCRIPTION:Come and learn from Jeannie as she demonstrates and teaches watercolor techniques using a limited palette of transparent staining color. Students may bring their own photo reference. Jeannie will also bring a photo reference of her demo painting which students may use for practice.
X-ALT-DESC;FMTTYPE=text/html:Come and learn from Jeannie as she demonstrates and teaches watercolor techniques using a limited palette of transparent staining color. Students may bring their own photo reference. Jeannie will also bring a photo reference of her demo painting which students may use for practice.
LOCATION:Double Dip Gallery located at 222 W. Pine Street (across from city hall)
UID:e.2050.578
SEQUENCE:3
DTSTAMP:20260421T031121Z
URL:https://business.lodichamber.com/events/details/jeannie-vodden-s-watercolor-workshop-05-05-2015-578
END:VEVENT

END:VCALENDAR
