BEGIN:VCALENDAR
VERSION:2.0
PRODID:-//ChamberMaster//Event Calendar 2.0//EN
METHOD:PUBLISH
X-PUBLISHED-TTL:P3D
REFRESH-INTERVAL:P3D
CALSCALE:GREGORIAN
BEGIN:VEVENT
DTSTART:20150304T170000Z
DTEND:20150305T170000Z
X-MICROSOFT-CDO-ALLDAYEVENT:FALSE
SUMMARY:Jewelry Art & Gift Fair
DESCRIPTION:The Fashion Club is hosting its popular semi-annual Jewelry\, Art & Gift Fair. Shop gifts and goodies from local artisans selling everything from handmade and vintage accessories\, sterling silver jewelry & ethnic jewelry\, jewelry-making findings and stones\, knitted scarves accessories\, handcrafted home accessories and decor\, hand-made skin care and lotions\, handbags & totes\, scented soaps\, homemade jams and gourmet goodies\, as well as branded goods from Tupperware\, Origami Owl\, Mary Kay\, and more! This event is free and open to the public\, held in Danner Hall on the Delta College campus. For maps and directions\, visit www.deltacollege.edu. Parking is $2 per day. You can purchase these parking passes at the yellow parking meters located in each parking lot. The closest lot is the S-1 lot. WHEN: Wednesday & Thursday March 4 & 5\, 2015 TIME: 9am-2pm each day LOCATION: Danner Hall on the Delta College Campus If you're interested in becoming a vendor\, please contact Fashion Club at fashionclub@deltacollege.edu.
X-ALT-DESC;FMTTYPE=text/html:The Fashion Club is hosting its popular semi-annual Jewelry\, Art &amp\; Gift Fair. Shop gifts and goodies from local artisans selling everything from handmade and vintage accessories\, sterling silver jewelry &amp\; ethnic jewelry\, jewelry-making findings and stones\, knitted scarves accessories\, handcrafted home accessories and decor\, hand-made skin care and lotions\, handbags &amp\; totes\, scented soaps\, homemade jams and gourmet goodies\, as well as branded goods from Tupperware\, Origami Owl\, Mary Kay\, and more! This event is free and open to the public\, held in Danner Hall on the Delta College campus. For maps and directions\, visit www.deltacollege.edu. Parking is $2 per day. You can purchase these parking passes at the yellow parking meters located in each parking lot. The closest lot is the S-1 lot. WHEN: Wednesday &amp\; Thursday March 4 &amp\; 5\, 2015 TIME: 9am-2pm each day LOCATION: Danner Hall on the Delta College Campus If you&#39\;re interested in becoming a vendor\, please contact Fashion Club at fashionclub@deltacollege.edu.
LOCATION:Danner Hall\, San Joaquin Delta College
UID:e.2050.382
SEQUENCE:3
DTSTAMP:20260421T043157Z
URL:https://business.lodichamber.com/events/details/jewelry-art-gift-fair-03-04-2015-382
END:VEVENT

END:VCALENDAR
