BEGIN:VCALENDAR
VERSION:2.0
PRODID:-//ChamberMaster//Event Calendar 2.0//EN
METHOD:PUBLISH
X-PUBLISHED-TTL:P3D
REFRESH-INTERVAL:P3D
CALSCALE:GREGORIAN
BEGIN:VEVENT
DTSTART:20141105T170000Z
DTEND:20141106T220000Z
X-MICROSOFT-CDO-ALLDAYEVENT:FALSE
SUMMARY:Jewelry Art & Gift Fair
DESCRIPTION:The Fashion Club is hosting its popular semi-annual Jewelry Art & Gift Fair. Shop for perfect holiday gifts with local artisans ! Artisan vendors carry jewelry for every style\; from handmade vintage silverware accessories \, sterling silver rings and bracelets\, & ethnic jewelry\, vendors also carry knitted hats\, hair accessories & scarves\, handcrafted wooden creations\, tupperware\, cosmetics & skin care\, hand bags & totes\, scented soaps and more! This event is free and open to the public\, held in Danner Hall in the center of campus. For maps and directions\, visit www.deltacollege.edu. Parking is $2 per day. You can purchase these parking passes at the yellow parking meters. WHEN: Wednesday & Thursday NOVEMBER 5th & 6th TIME: 9am-2pm each day LOCATION: Danner Hall on the Delta College Campus 5151 Pacific Ave Stockton\,CA 95207 If you're interested in becoming a vendor\, please contact Fashion Club at fashionclub@deltacollege.edu.
X-ALT-DESC;FMTTYPE=text/html:The Fashion Club is hosting its popular semi-annual Jewelry Art &amp\; Gift Fair. Shop for perfect holiday gifts with local artisans ! Artisan vendors carry jewelry for every style\; from handmade vintage silverware accessories \, sterling silver rings and bracelets\, &amp\; ethnic jewelry\, vendors also carry knitted hats\, hair accessories &amp\; scarves\, handcrafted wooden creations\, tupperware\, cosmetics &amp\; skin care\, hand bags &amp\; totes\, scented soaps and more! This event is free and open to the public\, held in Danner Hall in the center of campus. For maps and directions\, visit www.deltacollege.edu. Parking is $2 per day. You can purchase these parking passes at the yellow parking meters. WHEN: Wednesday &amp\; Thursday NOVEMBER 5th &amp\; 6th TIME: 9am-2pm each day LOCATION: Danner Hall on the Delta College Campus 5151 Pacific Ave Stockton\,CA 95207 If you&#39\;re interested in becoming a vendor\, please contact Fashion Club at fashionclub@deltacollege.edu.
LOCATION:Danner Hall on the San Joaquin Delta College Campus 5151 Pacific Ave
UID:e.2050.337
SEQUENCE:3
DTSTAMP:20260421T101922Z
URL:https://business.lodichamber.com/events/details/jewelry-art-gift-fair-11-05-2014-337
END:VEVENT

END:VCALENDAR
