BEGIN:VCALENDAR
VERSION:2.0
PRODID:-//ChamberMaster//Event Calendar 2.0//EN
METHOD:PUBLISH
X-PUBLISHED-TTL:P3D
REFRESH-INTERVAL:P3D
CALSCALE:GREGORIAN
BEGIN:VEVENT
DTSTART:20140425T230000Z
DTEND:20140426T220000Z
X-MICROSOFT-CDO-ALLDAYEVENT:FALSE
SUMMARY:Jewels to Tools Bazaar
DESCRIPTION:Don?t miss this great shopping event Friday and Saturday\, April 25 and 26.    On Friday\, from 4pm to 7pm admission is $10.00 which gives you first dibs on a huge selection of slightly used clothes\, antiques\, furniture\, tools\, and much more.    Saturday\, admission is free from 8 a.m. to 3 p.m. and food\, drinks\, and baked items will also be sold.  Proceeds benefit the children?s playground.  If you have nice things you would like to donate\, please call Bear Creek Community Church at 209-369-2202/951-9229.    Bear Creek Community Church is located  at11171 N. Lower Sacramento Road\, just north of Eight Mile Road between Lodi and Stockton.
X-ALT-DESC;FMTTYPE=text/html:Don?t miss this great shopping event Friday and Saturday\, April 25 and 26. &nbsp\;&nbsp\; On Friday\, from 4pm to 7pm admission is $10.00 which gives you first dibs on a huge selection of slightly used clothes\, antiques\, furniture\, tools\, and much more. &nbsp\; &nbsp\;Saturday\, admission is free from 8 a.m. to 3 p.m. and food\, drinks\, and baked items will also be sold. &nbsp\;Proceeds benefit the children?s playground. &nbsp\;If you have nice things you would like to donate\, please call Bear Creek Community Church at 209-369-2202/951-9229. &nbsp\;&nbsp\; Bear Creek Community Church is located &nbsp\;at11171 N. Lower Sacramento Road\, just north of Eight Mile Road between Lodi and Stockton.&nbsp\;
LOCATION:Bear Creek Community Church 11171 N Lower Sacramento Rd Lodi\, CA 95242
UID:e.2050.266
SEQUENCE:3
DTSTAMP:20260421T204611Z
URL:https://business.lodichamber.com/events/details/jewels-to-tools-bazaar-04-25-2014-266
END:VEVENT

END:VCALENDAR
