BEGIN:VCALENDAR
VERSION:2.0
PRODID:-//ChamberMaster//Event Calendar 2.0//EN
METHOD:PUBLISH
X-PUBLISHED-TTL:P3D
REFRESH-INTERVAL:P3D
CALSCALE:GREGORIAN
BEGIN:VEVENT
DTSTART:20140918T013000Z
DTEND:20140918T030000Z
X-MICROSOFT-CDO-ALLDAYEVENT:FALSE
SUMMARY:Kids Connect Club
DESCRIPTION:If you have a child from pre-school through sixth grade\, Bear Creek Community Church has a great mid-week club designed just for them. It?s a great place for kids to connect to Jesus\, God?s Word\, and Each Other in a Fun Way! Come check it out Wednesday evenings from 6:30 -8 p.m. To make your evening even easier\, we provide a delicious and nutritious dinner for only $3 served from 5:30 ? 6:00 p.m. Bear Creek Community Church is conveniently located between Lodi and Stockton. For details go to www.BearCreekChurch.com or 209-951-9229.
X-ALT-DESC;FMTTYPE=text/html:If you have a child from pre-school through sixth grade\, Bear Creek Community Church has a great mid-week club designed just for them. It?s a great place for kids to connect to Jesus\, God?s Word\, and Each Other in a Fun Way! Come check it out Wednesday evenings from 6:30 -8 p.m. To make your evening even easier\, we provide a delicious and nutritious dinner for only $3 served from 5:30 ? 6:00 p.m. Bear Creek Community Church is conveniently located between Lodi and Stockton. For details go to www.BearCreekChurch.com or 209-951-9229.
LOCATION:Bear Creek Community Church 11171 N Lower Sacramento Rd Lodi\, CA 95242
UID:e.2050.319
SEQUENCE:3
DTSTAMP:20260421T131214Z
URL:https://business.lodichamber.com/events/details/kids-connect-club-09-17-2014-319
END:VEVENT

END:VCALENDAR
