BEGIN:VCALENDAR
VERSION:2.0
PRODID:-//ChamberMaster//Event Calendar 2.0//EN
METHOD:PUBLISH
X-PUBLISHED-TTL:P3D
REFRESH-INTERVAL:P3D
CALSCALE:GREGORIAN
BEGIN:VEVENT
DTSTART:20150415T230000Z
DTEND:20150416T030000Z
X-MICROSOFT-CDO-ALLDAYEVENT:FALSE
SUMMARY:Ladie's Night In The Gallery
DESCRIPTION:Double Dip Galley is hosting Barbara's Boutique in the Gallery. There will be fashionable clothing and accessories\, along with fine art and ice cream to treat your senses.
X-ALT-DESC;FMTTYPE=text/html:Double Dip Galley is hosting Barbara&#39\;s Boutique in the Gallery. There will be fashionable clothing and accessories\, along with fine art and ice cream to treat your senses.
LOCATION:Double Dip Gallery-222 W. Pine Street (across from city hall)
UID:e.2050.573
SEQUENCE:3
DTSTAMP:20260421T032351Z
URL:https://business.lodichamber.com/events/details/ladie-s-night-in-the-gallery-04-15-2015-573
END:VEVENT

END:VCALENDAR
