BEGIN:VCALENDAR
VERSION:2.0
PRODID:-//ChamberMaster//Event Calendar 2.0//EN
METHOD:PUBLISH
X-PUBLISHED-TTL:P3D
REFRESH-INTERVAL:P3D
CALSCALE:GREGORIAN
BEGIN:VEVENT
DTSTART:20141019T020000Z
DTEND:20141019T040000Z
X-MICROSOFT-CDO-ALLDAYEVENT:FALSE
SUMMARY:Late Nite Catachism
DESCRIPTION:Call it Loretta Young meets Carol Burnett. This is part catechism class\, part stand-up routine. It?s an interactive comedy\, one of the longest running shows in Chicago and U.S. theater history. The New York Times calls it\, "hilarious\, well-written and inspired." You\, the audience member\, are part of Sister?s class. She?ll take you back to the days of the Latin Mass\, meatless Fridays\, and remind you about that good old ruler.
X-ALT-DESC;FMTTYPE=text/html:Call it Loretta Young meets Carol Burnett. This is part catechism class\, part stand-up routine. It?s an interactive comedy\, one of the longest running shows in Chicago and U.S. theater history. The New York Times calls it\, &quot\;hilarious\, well-written and inspired.&quot\; You\, the audience member\, are part of Sister?s class. She?ll take you back to the days of the Latin Mass\, meatless Fridays\, and remind you about that good old ruler.
LOCATION:Hutchins Street Square
UID:e.2050.302
SEQUENCE:3
DTSTAMP:20260421T114203Z
URL:https://business.lodichamber.com/events/details/late-nite-catachism-10-18-2014-302
END:VEVENT

END:VCALENDAR
