BEGIN:VCALENDAR
VERSION:2.0
PRODID:-//ChamberMaster//Event Calendar 2.0//EN
METHOD:PUBLISH
X-PUBLISHED-TTL:P3D
REFRESH-INTERVAL:P3D
CALSCALE:GREGORIAN
BEGIN:VEVENT
DTSTART:20151007T003000Z
DTEND:20151007T020000Z
X-MICROSOFT-CDO-ALLDAYEVENT:FALSE
SUMMARY:Leadership Lodi - Ribbon Cutting at Lodi Library
DESCRIPTION:Join us as we celebrate Leadership Lodi's Ribbon Cutting of the newly renovated children's area of the Lodi Library "The Book Eater's Club"
X-ALT-DESC;FMTTYPE=text/html:Join us as we celebrate Leadership Lodi&#39\;s Ribbon Cutting of the newly renovated children&#39\;s area of the Lodi Library &quot\;The Book Eater&#39\;s Club&quot\;&nbsp\;
LOCATION:201 W. Locust St Lodi\, CA 95240
UID:e.2050.924
SEQUENCE:3
DTSTAMP:20260420T202834Z
URL:https://business.lodichamber.com/events/details/leadership-lodi-ribbon-cutting-at-lodi-library-10-06-2015-924
END:VEVENT

END:VCALENDAR
