BEGIN:VCALENDAR
VERSION:2.0
PRODID:-//ChamberMaster//Event Calendar 2.0//EN
METHOD:PUBLISH
X-PUBLISHED-TTL:P3D
REFRESH-INTERVAL:P3D
CALSCALE:GREGORIAN
BEGIN:VEVENT
DTSTART:20150417T010000Z
DTEND:20150417T040000Z
X-MICROSOFT-CDO-ALLDAYEVENT:FALSE
SUMMARY:Let's Face It Together Fundraiser
DESCRIPTION:Enjoy a fun evening with friends. Relax\, wine taste\, dine\, bid\, and shop...all for a great cause. Held on the beautiful grounds of the Wine and Roses Inn and Spa\, this event will showcase elite vendors with that perfect something you've been looking for\, a variety of top-of-the-line beauty products that will improve your look\, local wines for tasting\, scrumptious salad and pasta bar\, and great raffle items to win! Let's Face It Together Foundation is dedicated to helping our neighbors in the Central Valley who have suffered devastating facial disfigurement and dysfunction as a result of cancer\, trauma\, spousal abuse\, burns\, stroke\, autoimmune diseases\, or other tragedies. Donations directly fund necessary medications\, medical therapeutics\, patient advocacy\, and surgical supplies essential to helping those affected return to their jobs and families.
X-ALT-DESC;FMTTYPE=text/html:Enjoy a fun evening with friends. Relax\, wine taste\, dine\, bid\, and shop...all for a great cause. Held on the beautiful grounds of the Wine and Roses Inn and Spa\, this event will showcase elite vendors with that perfect something you&#39\;ve been looking for\, a variety of top-of-the-line beauty products that will improve your look\, local wines for tasting\, scrumptious salad and pasta bar\, and great raffle items to win! Let&#39\;s Face It Together Foundation is dedicated to helping our neighbors in the Central Valley who have suffered devastating facial disfigurement and dysfunction as a result of cancer\, trauma\, spousal abuse\, burns\, stroke\, autoimmune diseases\, or other tragedies. Donations directly fund necessary medications\, medical therapeutics\, patient advocacy\, and surgical supplies essential to helping those affected return to their jobs and families.
LOCATION:Wine and Roses Garden Ballroom 2505 W. Turner Road\, Lodi 95242
UID:e.2050.378
SEQUENCE:3
DTSTAMP:20260421T043024Z
URL:https://business.lodichamber.com/events/details/let-s-face-it-together-fundraiser-04-16-2015-378
END:VEVENT

END:VCALENDAR
