BEGIN:VCALENDAR
VERSION:2.0
PRODID:-//ChamberMaster//Event Calendar 2.0//EN
METHOD:PUBLISH
X-PUBLISHED-TTL:P3D
REFRESH-INTERVAL:P3D
CALSCALE:GREGORIAN
BEGIN:VEVENT
DTSTART:20150521T031500Z
DTEND:20150521T034500Z
X-MICROSOFT-CDO-ALLDAYEVENT:FALSE
SUMMARY:Light Up The City Steps
DESCRIPTION:Join the Relay for Life teams of Lodi for the kick off Luminaria ceremony as we honor the loved ones who are fighting fighting cancer or have lost the battle to cancer.
X-ALT-DESC;FMTTYPE=text/html:Join the Relay for Life teams of Lodi for the kick off Luminaria ceremony as we honor the loved ones who are fighting fighting cancer or have lost the battle to cancer.
LOCATION:City steps. 221 W. Pine Street
UID:e.2050.830
SEQUENCE:3
DTSTAMP:20260421T020111Z
URL:https://business.lodichamber.com/events/details/light-up-the-city-steps-05-20-2015-830
END:VEVENT

END:VCALENDAR
