BEGIN:VCALENDAR
VERSION:2.0
PRODID:-//ChamberMaster//Event Calendar 2.0//EN
METHOD:PUBLISH
X-PUBLISHED-TTL:P3D
REFRESH-INTERVAL:P3D
CALSCALE:GREGORIAN
BEGIN:VEVENT
DTSTART:20160322T160000Z
DTEND:20160325T230000Z
X-MICROSOFT-CDO-ALLDAYEVENT:FALSE
SUMMARY:Lions Eyes across California 2016
DESCRIPTION:Help area Lions serve our community! Bring your donations of reading\, prescription and sunglasses and/or canned goods and other non-perishable food items to CCBVI\, 130 W. Flora St.\, Stockton Tues.\, Mar. 22-Fri.\, Mar. 25\, 2016 between the hours of 9:00AM-4:00PM Daily. Eyeglasses will be cleaned\, sorted\, repaired and matched up with those in need through the Lions eyeglass recycling center in Vallejo. All food donations will benefit Emergency Food Bank of San Joaquin County. CCBVI is proud to partner with local Lions Clubs for the Eyes across California service project\, and wishes to thank our Lions for all your support year after year. For more info\, please contact Jennifer: (209) 466-3836\, Ext. 206.
X-ALT-DESC;FMTTYPE=text/html:Help area Lions serve our community! Bring your donations of reading\, prescription and sunglasses and/or canned goods and other non-perishable food items to CCBVI\, 130 W. Flora St.\, Stockton Tues.\, Mar. 22-Fri.\, Mar. 25\, 2016 between the hours of 9:00AM-4:00PM Daily. Eyeglasses will be cleaned\, sorted\, repaired and matched up with those in need through the Lions eyeglass recycling center in Vallejo. All food donations will benefit Emergency Food Bank of San Joaquin County. CCBVI is proud to partner with local Lions Clubs for the Eyes across California service project\, and wishes to thank our Lions for all your support year after year. For more info\, please contact Jennifer: (209) 466-3836\, Ext. 206.
LOCATION:Community Center for the Blind and Visually Impaired\, 130 W. Flora St.\, Stockton 95202
UID:e.2050.982
SEQUENCE:3
DTSTAMP:20260420T114305Z
URL:https://business.lodichamber.com/events/details/lions-eyes-across-california-2016-03-22-2016-982
END:VEVENT

END:VCALENDAR
