BEGIN:VCALENDAR
VERSION:2.0
PRODID:-//ChamberMaster//Event Calendar 2.0//EN
METHOD:PUBLISH
X-PUBLISHED-TTL:P3D
REFRESH-INTERVAL:P3D
CALSCALE:GREGORIAN
BEGIN:VEVENT
DTSTART:20160423T200000Z
DTEND:20160424T000000Z
X-MICROSOFT-CDO-ALLDAYEVENT:FALSE
SUMMARY:Lodi Beer Fest
DESCRIPTION:Drink beer with good friends! At the new Lodi Beer Fest come and taste craft beer from 30 breweries\, enjoy some food\, games and music and take home a commemorative glass.
X-ALT-DESC;FMTTYPE=text/html:Drink beer with good friends! At the new Lodi Beer Fest come and taste craft beer from 30 breweries\, enjoy some food\, games and music and take home a commemorative glass.
LOCATION:Lodi Grape Festival grounds
UID:e.2050.967
SEQUENCE:3
DTSTAMP:20260420T113917Z
URL:https://business.lodichamber.com/events/details/lodi-beer-fest-04-23-2016-967
END:VEVENT

END:VCALENDAR
