BEGIN:VCALENDAR
VERSION:2.0
PRODID:-//ChamberMaster//Event Calendar 2.0//EN
METHOD:PUBLISH
X-PUBLISHED-TTL:P3D
REFRESH-INTERVAL:P3D
CALSCALE:GREGORIAN
BEGIN:VEVENT
DTSTART:20150508T003000Z
DTEND:20150508T020000Z
X-MICROSOFT-CDO-ALLDAYEVENT:FALSE
SUMMARY:Lodi Bicycle Shop - Ribbon Cutting
DESCRIPTION:Join us in welcoming Lodi Bicycle Shop into the Chamber family with a Ribbon Cutting
X-ALT-DESC;FMTTYPE=text/html:Join us in welcoming Lodi Bicycle Shop into the Chamber family with a Ribbon Cutting
LOCATION:218 W Pine Street Lodi
UID:e.2050.577
SEQUENCE:3
DTSTAMP:20260421T031541Z
URL:https://business.lodichamber.com/events/details/lodi-bicycle-shop-ribbon-cutting-05-07-2015-577
END:VEVENT

END:VCALENDAR
