BEGIN:VCALENDAR
VERSION:2.0
PRODID:-//ChamberMaster//Event Calendar 2.0//EN
METHOD:PUBLISH
X-PUBLISHED-TTL:P3D
REFRESH-INTERVAL:P3D
CALSCALE:GREGORIAN
BEGIN:VEVENT
DTSTART:20160117T010000Z
DTEND:20160117T060000Z
X-MICROSOFT-CDO-ALLDAYEVENT:FALSE
SUMMARY:Lodi Boys & Girls Club Crab Feed
DESCRIPTION:Lodi Boys & Girls Club will host its Annual crab feed on January 16\, 2016. A no-host bar will open at 5:30 p.m.\, followed by dinner at 7:00 p.m. Door Prize\, Raffle\, and silent auction items will add to the evening's festivities. Tickets cost $50.00 per person.
X-ALT-DESC;FMTTYPE=text/html:Lodi Boys &amp\; Girls Club will host its Annual crab feed on January 16\, 2016. A no-host bar will open at 5:30 p.m.\, followed by dinner at 7:00 p.m. Door Prize\, Raffle\, and silent auction items will add to the evening&#39\;s festivities. Tickets cost $50.00 per person.
LOCATION:Lodi Boys & Girls Club 275 Poplar Street Lodi\, CA 95240
UID:e.2050.936
SEQUENCE:3
DTSTAMP:20260420T143737Z
URL:https://business.lodichamber.com/events/details/lodi-boys-girls-club-crab-feed-01-16-2016-936
END:VEVENT

END:VCALENDAR
