BEGIN:VCALENDAR
VERSION:2.0
PRODID:-//ChamberMaster//Event Calendar 2.0//EN
METHOD:PUBLISH
X-PUBLISHED-TTL:P3D
REFRESH-INTERVAL:P3D
CALSCALE:GREGORIAN
BEGIN:VEVENT
DTSTART:20160217T160000Z
DTEND:20160217T170000Z
X-MICROSOFT-CDO-ALLDAYEVENT:FALSE
SUMMARY:Lodi Chamber Ambassador Meeting
DESCRIPTION:Monthly meeting of the Lodi District Chamber Ambassadors  - join us for an energetic hour of networking and professional development.
X-ALT-DESC;FMTTYPE=text/html:Monthly meeting of the Lodi District Chamber Ambassadors &nbsp\;- join us for an energetic hour of networking and professional development.
LOCATION:Lodi Chamber of Commerce 35 S. School Street
UID:e.2050.415
SEQUENCE:3
DTSTAMP:20260420T130701Z
URL:https://business.lodichamber.com/events/details/lodi-chamber-ambassador-meeting-02-17-2016-415
END:VEVENT

END:VCALENDAR
