BEGIN:VCALENDAR
VERSION:2.0
PRODID:-//ChamberMaster//Event Calendar 2.0//EN
METHOD:PUBLISH
X-PUBLISHED-TTL:P3D
REFRESH-INTERVAL:P3D
CALSCALE:GREGORIAN
BEGIN:VEVENT
DTSTART:20150520T150000Z
DTEND:20150520T160000Z
X-MICROSOFT-CDO-ALLDAYEVENT:FALSE
SUMMARY:Lodi Chamber Ambassador Meeting
DESCRIPTION:Monthly meeting of the Lodi District Chamber Ambassadors  - join us for an energetic hour of networking and professional development.
X-ALT-DESC;FMTTYPE=text/html:Monthly meeting of the Lodi District Chamber Ambassadors &nbsp\;- join us for an energetic hour of networking and professional development.
LOCATION:Lodi Chamber of Commerce 35 S. School Street
UID:e.2050.406
SEQUENCE:3
DTSTAMP:20260421T031142Z
URL:https://business.lodichamber.com/events/details/lodi-chamber-ambassador-meeting-05-20-2015-406
END:VEVENT

END:VCALENDAR
