BEGIN:VCALENDAR
VERSION:2.0
PRODID:-//ChamberMaster//Event Calendar 2.0//EN
METHOD:PUBLISH
X-PUBLISHED-TTL:P3D
REFRESH-INTERVAL:P3D
CALSCALE:GREGORIAN
BEGIN:VEVENT
DTSTART:20160201T200000Z
DTEND:20160229T010000Z
X-MICROSOFT-CDO-ALLDAYEVENT:FALSE
SUMMARY:Lodi Community Art Center 4th Annual Photography Show
DESCRIPTION:Lodi Community Art Center and Gallery is hosting its 4th Annual Photography Show and Sale during the month of February. The show includes photographers as far away as Arizona\, New York and Canada. Besides having the original art for sale\, the gallery will also be selling prints and cards of the accepted show photographs.
X-ALT-DESC;FMTTYPE=text/html:Lodi Community Art Center and Gallery is hosting its 4th Annual Photography Show and Sale during the month of February. The show includes photographers as far away as Arizona\, New York and Canada. Besides having the original art for sale\, the gallery will also be selling prints and cards of the accepted show photographs.
LOCATION:Lodi Community Art Center 110 W Pine Street Lodi\, CA
UID:e.2050.954
SEQUENCE:3
DTSTAMP:20260420T130700Z
URL:https://business.lodichamber.com/events/details/lodi-community-art-center-4th-annual-photography-show-02-01-2016-954
END:VEVENT

END:VCALENDAR
