BEGIN:VCALENDAR
VERSION:2.0
PRODID:-//ChamberMaster//Event Calendar 2.0//EN
METHOD:PUBLISH
X-PUBLISHED-TTL:P3D
REFRESH-INTERVAL:P3D
CALSCALE:GREGORIAN
BEGIN:VEVENT
DTSTART;VALUE=DATE:20150302
DTEND;VALUE=DATE:20150607
TRANSP:TRANSPARENT
X-MICROSOFT-CDO-ALLDAYEVENT:TRUE
SUMMARY:Lodi Junior Giants Baseball Registration
DESCRIPTION:It's a free program! Junior Giants is a non-competitive baseball league for girls and boys ages 5 to 18. Higher value is placed on character development than on wins and losses. The program features teaching education\, health\, and violence prevention. Pitching machines are used and professional coaching clinics are provided to the coaches by the Giants.
X-ALT-DESC;FMTTYPE=text/html:It&#39\;s a free program! Junior Giants is a non-competitive baseball league for girls and boys ages 5 to 18. Higher value is placed on character development than on wins and losses. The program features teaching education\, health\, and violence prevention. Pitching machines are used and professional coaching clinics are provided to the coaches by the Giants.
LOCATION:Register online Leagues served Lodi and the surrounding area.
UID:e.2050.599
SEQUENCE:3
DTSTAMP:20260421T004211Z
URL:https://business.lodichamber.com/events/details/lodi-junior-giants-baseball-registration-03-02-2015-599
END:VEVENT

END:VCALENDAR
