BEGIN:VCALENDAR
VERSION:2.0
PRODID:-//ChamberMaster//Event Calendar 2.0//EN
METHOD:PUBLISH
X-PUBLISHED-TTL:P3D
REFRESH-INTERVAL:P3D
CALSCALE:GREGORIAN
BEGIN:VEVENT
DTSTART:20150719T010000Z
DTEND:20150719T040000Z
X-MICROSOFT-CDO-ALLDAYEVENT:FALSE
SUMMARY:Lodi Memorial Hospital Foundation's SummerFest
DESCRIPTION:This festive summertime event features the finest local food purveyors\, complimented with wines from Mondavi and live music\, all in a lovely garden setting
X-ALT-DESC;FMTTYPE=text/html:This festive summertime event features the finest local food purveyors\, complimented with wines from Mondavi and live music\, all in a lovely garden setting
LOCATION:Mondavi Winery 5950 East Woodbridge Road Acampo\, California
UID:e.2050.376
SEQUENCE:3
DTSTAMP:20260420T232136Z
URL:https://business.lodichamber.com/events/details/lodi-memorial-hospital-foundation-s-summerfest-07-18-2015-376
END:VEVENT

END:VCALENDAR
