BEGIN:VCALENDAR
VERSION:2.0
PRODID:-//ChamberMaster//Event Calendar 2.0//EN
METHOD:PUBLISH
X-PUBLISHED-TTL:P3D
REFRESH-INTERVAL:P3D
CALSCALE:GREGORIAN
BEGIN:VEVENT
DTSTART:20150516T140000Z
DTEND:20150516T180000Z
X-MICROSOFT-CDO-ALLDAYEVENT:FALSE
SUMMARY:Lodi memorial Hospital Foundation's Walk for the Heath of It
DESCRIPTION:This is a non-competitive\, family friendly event that includes a 5K Walk & Run\, a 5K Poker Walk\, 1 mile Fun Run for kids and a 1 mile Walk and stroll (for wheelchairs and strollers) The event caps off with a Health Fair with complimentary Health Screenings.
X-ALT-DESC;FMTTYPE=text/html:This is a non-competitive\, family friendly event that includes a 5K Walk &amp\; Run\, a 5K Poker Walk\, 1 mile Fun Run for kids and a 1 mile Walk and stroll (for wheelchairs and strollers) The event caps off with a Health Fair with complimentary Health Screenings.
LOCATION:Lodi Memorial Hospital 975 S. Fairmont parking lot.
UID:e.2050.375
SEQUENCE:3
DTSTAMP:20260421T021242Z
URL:https://business.lodichamber.com/events/details/lodi-memorial-hospital-foundation-s-walk-for-the-heath-of-it-05-16-2015-375
END:VEVENT

END:VCALENDAR
