BEGIN:VCALENDAR
VERSION:2.0
PRODID:-//ChamberMaster//Event Calendar 2.0//EN
METHOD:PUBLISH
X-PUBLISHED-TTL:P3D
REFRESH-INTERVAL:P3D
CALSCALE:GREGORIAN
BEGIN:VEVENT
DTSTART:20150627T190000Z
DTEND:20150628T190000Z
X-MICROSOFT-CDO-ALLDAYEVENT:FALSE
SUMMARY:Lodi Obon Bazaar
DESCRIPTION:A family friendly weekend filled with popular Japanese dishes and Buddhist cultural events and entertainment including Ukulele Strummers\, Japanese Musicians\, Vocalists\, Folk Dances\, works by local artists and an exhibit of the history of Japanese-American Baseball in Lodi.
X-ALT-DESC;FMTTYPE=text/html:A family friendly weekend filled with popular Japanese dishes and Buddhist cultural events and entertainment including Ukulele Strummers\, Japanese Musicians\, Vocalists\, Folk Dances\, works by local artists and an exhibit of the history of Japanese-American Baseball in Lodi.
LOCATION:Buddhist Church of Lodi 23 N Stockton St Lodi\, CA 95240
UID:e.2050.845
SEQUENCE:3
DTSTAMP:20260421T004040Z
URL:https://business.lodichamber.com/events/details/lodi-obon-bazaar-06-27-2015-845
END:VEVENT

END:VCALENDAR
