BEGIN:VCALENDAR
VERSION:2.0
PRODID:-//ChamberMaster//Event Calendar 2.0//EN
METHOD:PUBLISH
X-PUBLISHED-TTL:P3D
REFRESH-INTERVAL:P3D
CALSCALE:GREGORIAN
BEGIN:VEVENT
DTSTART:20151204T020000Z
DTEND:20151204T050000Z
X-MICROSOFT-CDO-ALLDAYEVENT:FALSE
SUMMARY:Lodi Parade of Lights
DESCRIPTION:The beloved and magical holiday parade\, Lodi Parade of Lights\, illuminates the street of Downtown Lodi with the theme\, "Downhome Christmas". The countless lights\, floats\, marching bands\, dance groups and themed vehicles will enchant all ages. This spectacular parade will even include a visit from the Man in the Red Suite.
X-ALT-DESC;FMTTYPE=text/html:The beloved and magical holiday parade\, Lodi Parade of Lights\, illuminates the street of Downtown Lodi with the theme\, &quot\;Downhome Christmas&quot\;. The countless lights\, floats\, marching bands\, dance groups and themed vehicles will enchant all ages. This spectacular parade will even include a visit from the Man in the Red Suite.&nbsp\;
LOCATION:Downtown Lodi
UID:e.2050.926
SEQUENCE:3
DTSTAMP:20260420T172855Z
URL:https://business.lodichamber.com/events/details/lodi-parade-of-lights-12-03-2015-926
END:VEVENT

END:VCALENDAR
