BEGIN:VCALENDAR
VERSION:2.0
PRODID:-//ChamberMaster//Event Calendar 2.0//EN
METHOD:PUBLISH
X-PUBLISHED-TTL:P3D
REFRESH-INTERVAL:P3D
CALSCALE:GREGORIAN
BEGIN:VEVENT
DTSTART:20141205T021500Z
DTEND:20141205T060000Z
X-MICROSOFT-CDO-ALLDAYEVENT:FALSE
SUMMARY:Lodi Parade of Lights
DESCRIPTION:The Holidays arrive in Lodi on Thursday\, December 4 with the 19th annual Parade of Lights. This Lodi tradition ushers in this festive season with over 80 floats a washed in a sea of lights\, marching bands\, dance groups and themed vehicles sure to enchant residents and visitors of all ages.
X-ALT-DESC;FMTTYPE=text/html:The Holidays arrive in Lodi on Thursday\, December 4 with the 19th annual Parade of Lights. This Lodi tradition ushers in this festive season with over 80 floats a washed in a sea of lights\, marching bands\, dance groups and themed vehicles sure to enchant residents and visitors of all ages.&nbsp\;
LOCATION:Downtown Lodi
UID:e.2050.291
SEQUENCE:3
DTSTAMP:20260421T090947Z
URL:https://business.lodichamber.com/events/details/lodi-parade-of-lights-12-04-2014-291
END:VEVENT

END:VCALENDAR
