BEGIN:VCALENDAR
VERSION:2.0
PRODID:-//ChamberMaster//Event Calendar 2.0//EN
METHOD:PUBLISH
X-PUBLISHED-TTL:P3D
REFRESH-INTERVAL:P3D
CALSCALE:GREGORIAN
BEGIN:VEVENT
DTSTART:20151002T150000Z
DTEND:20151004T010000Z
X-MICROSOFT-CDO-ALLDAYEVENT:FALSE
SUMMARY:Lodi's 3rd Annual Muscle Car Madness Auction & Classic Car Show
DESCRIPTION:Classic Car Auction Friday\, October 2\, 2015 Preview Auction 8am - 1pm Petroliana & Automobilia Auction 1pm - 5pm Vehicle Auction 5pm - 8pm Saturday\, October 3\, 2015 Preview Auction 8am - 11am Petroliana & Automobilia Auction 11am - 12pm 250 Classic Cars 12pm - END Car Show Friday\, October 2\, 2015 10 AM - 7 PM Saturday\, October 3\, 2015 9 AM - 6 PM
X-ALT-DESC;FMTTYPE=text/html:Classic Car Auction Friday\, October 2\, 2015 Preview Auction 8am - 1pm Petroliana &amp\; Automobilia Auction 1pm - 5pm Vehicle Auction 5pm - 8pm Saturday\, October 3\, 2015 Preview Auction 8am - 11am Petroliana &amp\; Automobilia Auction 11am - 12pm 250 Classic Cars 12pm - END Car Show Friday\, October 2\, 2015 10 AM - 7 PM Saturday\, October 3\, 2015 9 AM - 6 PM
LOCATION:Lodi Grape Festival Pavilion 413 East Lockeford Street Lodi\, California
UID:e.2050.833
SEQUENCE:3
DTSTAMP:20260420T185755Z
URL:https://business.lodichamber.com/events/details/lodi-s-3rd-annual-muscle-car-madness-auction-classic-car-show-10-02-2015-833
END:VEVENT

END:VCALENDAR
