BEGIN:VCALENDAR
VERSION:2.0
PRODID:-//ChamberMaster//Event Calendar 2.0//EN
METHOD:PUBLISH
X-PUBLISHED-TTL:P3D
REFRESH-INTERVAL:P3D
CALSCALE:GREGORIAN
BEGIN:VEVENT
DTSTART:20150411T180000Z
DTEND:20150413T000000Z
X-MICROSOFT-CDO-ALLDAYEVENT:FALSE
SUMMARY:Lodi's 55th annual Spring Art Show
DESCRIPTION:This is one of the oldest and biggest free juried art shows in No. California with more than 300 art pieces on display and for sale
X-ALT-DESC;FMTTYPE=text/html:This is one of the oldest and biggest free juried art shows in No. California with more than 300 art pieces on display and for sale
LOCATION:Woodbridge by Robert Mondavi Winery\, 5950 East Woodbridge Road\, Acampo (1 mile east of Hwy 99 and 4 miles from downtown Lodi.
UID:e.2050.386
SEQUENCE:3
DTSTAMP:20260421T043035Z
URL:https://business.lodichamber.com/events/details/lodi-s-55th-annual-spring-art-show-04-11-2015-386
END:VEVENT

END:VCALENDAR
