BEGIN:VCALENDAR
VERSION:2.0
PRODID:-//ChamberMaster//Event Calendar 2.0//EN
METHOD:PUBLISH
X-PUBLISHED-TTL:P3D
REFRESH-INTERVAL:P3D
CALSCALE:GREGORIAN
BEGIN:VEVENT
DTSTART:20151004T150000Z
DTEND:20151004T230000Z
X-MICROSOFT-CDO-ALLDAYEVENT:FALSE
SUMMARY:Lodi Street Faire
DESCRIPTION:The Lodi Street Faire is one of the premier events in the State\, attracting vendors from throughout California. The Street Faire takes up a 12-square block area of Lodi. More than 500 vendors participate in this biannual event\, selling antiques\, arts & crafts and commercial items. While shopping\, visitors can satisfy their appetite with their choice from food vendors offering everything from hamburgers\, to hot dogs\, sausages\, to pizza. Mexican\, Chinese and Filipino dishes are also available for those craving a more international fare. And\, no faire is complete without sweet treats and cold drinks.
X-ALT-DESC;FMTTYPE=text/html:<span style="font-family:verdana\;"><span style="font-size:14px\;">The Lodi Street Faire<span style="color: rgb(51\, 51\, 51)\; line-height: 24px\; background-color: rgb(255\, 255\, 255)\;">&nbsp\;is one of the premier events in the State\, attracting vendors from throughout California. The Street Faire takes up a 12-square block area of Lodi. More than 500 vendors participate in this biannual event\, selling antiques\, arts &amp\; crafts and commercial items. While shopping\, visitors can satisfy their appetite with their choice from food vendors offering everything from hamburgers\, to hot dogs\, sausages\, to pizza. Mexican\, Chinese and Filipino dishes are also available for those craving a more international fare. And\, no faire is complete without sweet treats and cold drinks.</span></span></span>
LOCATION:Downtown Lodi
UID:e.2050.858
SEQUENCE:3
DTSTAMP:20260420T185545Z
URL:https://business.lodichamber.com/events/details/lodi-street-faire-10-04-2015-858
END:VEVENT

END:VCALENDAR
