BEGIN:VCALENDAR
VERSION:2.0
PRODID:-//ChamberMaster//Event Calendar 2.0//EN
METHOD:PUBLISH
X-PUBLISHED-TTL:P3D
REFRESH-INTERVAL:P3D
CALSCALE:GREGORIAN
BEGIN:VEVENT
DTSTART:20141005T150000Z
DTEND:20141005T230000Z
X-MICROSOFT-CDO-ALLDAYEVENT:FALSE
SUMMARY:Lodi Street Faire
DESCRIPTION:The Lodi Street Faire is one of the premier events in the State\, attracting vendors from throughout California. The Street Faire takes up a 14-square block area of Lodi. More than 500 vendors participate in this bi-annual event\, selling antiques\, arts & crafts and commercial items.
X-ALT-DESC;FMTTYPE=text/html:The Lodi Street Faire is one of the premier events in the State\, attracting vendors from throughout California. The Street Faire takes up a 14-square block area of Lodi. More than 500 vendors participate in this bi-annual event\, selling antiques\, arts &amp\; crafts and commercial items.&nbsp\;
LOCATION:Downtown Lodi
UID:e.2050.289
SEQUENCE:3
DTSTAMP:20260421T114434Z
URL:https://business.lodichamber.com/events/details/lodi-street-faire-10-05-2014-289
END:VEVENT

END:VCALENDAR
