BEGIN:VCALENDAR
VERSION:2.0
PRODID:-//ChamberMaster//Event Calendar 2.0//EN
METHOD:PUBLISH
X-PUBLISHED-TTL:P3D
REFRESH-INTERVAL:P3D
CALSCALE:GREGORIAN
BEGIN:VEVENT
DTSTART:20141019T010000Z
DTEND:20141019T040000Z
X-MICROSOFT-CDO-ALLDAYEVENT:FALSE
SUMMARY:Lodi Wicked Wine Stroll
DESCRIPTION:Over 25 wineries will be pouring their newest vintages and wine makers will be discussing why Lodi is the home to a growing number of award-winning wineries. School Street's shops and boutiques will serve delectable appetizers with special shopping discounts.
X-ALT-DESC;FMTTYPE=text/html:Over 25 wineries will be pouring their newest vintages and wine makers will be discussing why Lodi is the home to a growing number of award-winning wineries. School Street&#39\;s shops and boutiques will serve delectable appetizers with special shopping discounts.
LOCATION:School Street in Downtown Lodi.
UID:e.2050.290
SEQUENCE:3
DTSTAMP:20260421T115022Z
URL:https://business.lodichamber.com/events/details/lodi-wicked-wine-stroll-10-18-2014-290
END:VEVENT

END:VCALENDAR
