BEGIN:VCALENDAR
VERSION:2.0
PRODID:-//ChamberMaster//Event Calendar 2.0//EN
METHOD:PUBLISH
X-PUBLISHED-TTL:P3D
REFRESH-INTERVAL:P3D
CALSCALE:GREGORIAN
BEGIN:VEVENT
DTSTART:20160402T210000Z
DTEND:20160403T010000Z
X-MICROSOFT-CDO-ALLDAYEVENT:FALSE
SUMMARY:Lodi Wine and Food Festival
DESCRIPTION:It's all about the wine and the food! The all new Lodi Wine & Food Festival features wine tasting from 40 wineries\, a bounty of food from 15 local restaurants and caterers\, wine pairing\, olive oil tasting\, blind tasting\, meet the wine maker and live music. Housed in the barrel-like Ole Mettler Grape Pavilion\, the Lodi Wine and Food Festival is the total wine and food experience right in the heart of Lodi\, the 2015 International Wine Region of the Year. VIP Tasting begins at 2:00 p.m. and offers a more intimate tasting and up close contact with winemakers. You may also see some of their higher end wines! There will also be special wine pairing and a large sampling of food. Includes all wine tasting\, food\, a collector glass and food tray. The Grand Tasting is from 3:00 to 6:00 p.m. and includes wine tasting from more than 40 wineries\, great food\, music and much more. Includes a all wine tasting\, food and collector wine glass. Must be 21 or older to attend. The Lodi Wine and Food Festival is presented by the Lodi Grape Festivla and F & M Bank. Sponsored in part by LoCA and Lodi News Sentinel.
X-ALT-DESC;FMTTYPE=text/html:It&#39\;s all about the wine and the food! The all new Lodi Wine &amp\; Food Festival features wine tasting from 40 wineries\, a bounty of food from 15 local restaurants and caterers\, wine pairing\, olive oil tasting\, blind tasting\, meet the wine maker and live music. Housed in the barrel-like Ole Mettler Grape Pavilion\, the Lodi Wine and Food Festival is the total wine and food experience right in the heart of Lodi\, the 2015 International Wine Region of the Year. VIP Tasting begins at 2:00 p.m. and offers a more intimate tasting and up close contact with winemakers. You may also see some of their higher end wines! There will also be special wine pairing and a large sampling of food. Includes all wine tasting\, food\, a collector glass and food tray. The Grand Tasting is from 3:00 to 6:00 p.m. and includes wine tasting from more than 40 wineries\, great food\, music and much more. Includes a all wine tasting\, food and collector wine glass. Must be 21 or older to attend. The Lodi Wine and Food Festival is presented by the Lodi Grape Festivla and F &amp\; M Bank. Sponsored in part by LoCA and Lodi News Sentinel.
LOCATION:Ole Mettler Grape Pavilion at the Lodi Grape Festival grounds\, 413 E. Lockeford Street\, Lodi\, CA 95240
UID:e.2050.966
SEQUENCE:3
DTSTAMP:20260420T114323Z
URL:https://business.lodichamber.com/events/details/lodi-wine-and-food-festival-04-02-2016-966
END:VEVENT

END:VCALENDAR
