BEGIN:VCALENDAR
VERSION:2.0
PRODID:-//ChamberMaster//Event Calendar 2.0//EN
METHOD:PUBLISH
X-PUBLISHED-TTL:P3D
REFRESH-INTERVAL:P3D
CALSCALE:GREGORIAN
BEGIN:VEVENT
DTSTART:20140329T200000Z
DTEND:20140331T033000Z
X-MICROSOFT-CDO-ALLDAYEVENT:FALSE
SUMMARY:Lodi Zinfandel Experience
DESCRIPTION:Experience Lodi as Never Before Hosted by ZAP and Lodi Winegrape Commission Seminar\, Vineyard Tours\, BBQ and more! The LODI ZINFANDEL EXPERIENCE Events include: ?  Educational Seminar featuring the Lodi Native Group ?  Escorted Vineyard Tours and Wine Tastings  Soucie Vineyard\, Noma Ranch and Marian?s Vineyard ?  Winemakers Reception ?  BBQ-themed Dinner at Macchia Wines\, catered by French 25 Ticket Prices: ZAP Members $85 (Public $95) Heritage Club Members receive complimentary gift! Purchase your tickets today!
X-ALT-DESC;FMTTYPE=text/html:Experience Lodi as Never Before Hosted by ZAP and Lodi Winegrape Commission Seminar\, Vineyard Tours\, BBQ and more! The LODI ZINFANDEL EXPERIENCE Events include: ? &nbsp\;Educational Seminar featuring the Lodi Native Group ? &nbsp\;Escorted Vineyard Tours and Wine Tastings&nbsp\; Soucie Vineyard\, Noma Ranch and Marian?s Vineyard ? &nbsp\;Winemakers Reception ? &nbsp\;BBQ-themed Dinner at Macchia Wines\, catered by French 25 Ticket Prices: ZAP Members $85 (Public $95) Heritage Club Members receive complimentary gift! Purchase your tickets today!
LOCATION:Starting Point: Wine & Roses Hotel\, Lodi 2505 West Turner Road 95220 Reception and Dinner: Macchia Wines\, Acampo 7099 East Peltier Road
UID:e.2050.236
SEQUENCE:3
DTSTAMP:20260421T234618Z
URL:https://business.lodichamber.com/events/details/lodi-zinfandel-experience-03-29-2014-236
END:VEVENT

END:VCALENDAR
