BEGIN:VCALENDAR
VERSION:2.0
PRODID:-//ChamberMaster//Event Calendar 2.0//EN
METHOD:PUBLISH
X-PUBLISHED-TTL:P3D
REFRESH-INTERVAL:P3D
CALSCALE:GREGORIAN
BEGIN:VEVENT
DTSTART:20151011T030000Z
DTEND:20151011T060000Z
X-MICROSOFT-CDO-ALLDAYEVENT:FALSE
SUMMARY:Lord Blood-Rah's Nerve Wrackin' Theater
DESCRIPTION:10/10/15 - LORD BLOOD-RAH'S NERVE WRACKIN' THEATER 8:00pm - 11:00pm Peirano Tasting Room - $5 or FREE with horror costume! 21 AND OVER Re-live the days when late-night monster movies ruled the earth and TV horror hosts were kings! Thrill along with TV's own Lord Blood-Rah as he hosts the Vincent Price classic "The House on Haunted Hill." Join the Bay Area's horror star\, a television and cult favorite\, who cut his teeth (figuratively) on the likes of Vampira\, Svengoolie\, Zacherley\, and the great Bob Wilkins of Sacramento and San Francisco fame. Meet the horror host at Peirano Estate Vineyards LIVE and have your picture taken with Lord Blood-Rah as he plays ringmaster to the evening. Enjoy the classic film that Rotten Tomatoes calls "a campy classic" and rated 96% fresh! See "The House on Haunted Hill" in the shadows of the vines and under a pale moon\, the way a horror movie should be seen! The evening begins with local jazz legends SYMPOSIUM who will groove the crowd as the sun disappears into the horizon. Then as darkness sets on the vineyard and Lord Blood-Rah presides\, the crowd will be treated to highlights and "spooktacular" moments of Vincent Prices' career before the feature! Wine will be available by the glass or bottle and popcorn is FREE to all! Movie candies will be for sale as will soda and bottled water. Bring a blanket\, chair\, and picnic basket or get there early and grab one of our limited picnic tables. Chairs are available and outside food is welcome but no outside wines or alcohol is permitted. Guests are welcome to bring non-alcoholic drinks and snacks.
X-ALT-DESC;FMTTYPE=text/html:10/10/15 - LORD BLOOD-RAH&#39\;S NERVE WRACKIN&#39\; THEATER 8:00pm - 11:00pm Peirano Tasting Room - $5 or FREE with horror costume! 21 AND OVER Re-live the days when late-night monster movies ruled the earth and TV horror hosts were kings! Thrill along with TV&#39\;s own Lord Blood-Rah as he hosts the Vincent Price classic &quot\;The House on Haunted Hill.&quot\; Join the Bay Area&#39\;s horror star\, a television and cult favorite\, who cut his teeth (figuratively) on the likes of Vampira\, Svengoolie\, Zacherley\, and the great Bob Wilkins of Sacramento and San Francisco fame. Meet the horror host at Peirano Estate Vineyards LIVE and have your picture taken with Lord Blood-Rah as he plays ringmaster to the evening. Enjoy the classic film that Rotten Tomatoes calls &quot\;a campy classic&quot\; and rated 96% fresh! See &quot\;The House on Haunted Hill&quot\; in the shadows of the vines and under a pale moon\, the way a horror movie should be seen! The evening begins with local jazz legends SYMPOSIUM who will groove the crowd as the sun disappears into the horizon. Then as darkness sets on the vineyard and Lord Blood-Rah presides\, the crowd will be treated to highlights and &quot\;spooktacular&quot\;&nbsp\;moments of Vincent Prices&#39\; career before the feature! Wine will be available by the glass or bottle and popcorn is FREE to all! Movie candies will be for sale as will soda and bottled water. Bring a blanket\, chair\, and picnic basket or get there early and grab one of our limited picnic tables. Chairs are available and outside food is welcome but no outside wines or alcohol is permitted. Guests are welcome to bring non-alcoholic drinks and snacks.
LOCATION:Peirano Estate Vineyards 21831 North Highway 99 Acampo\, Ca 95220
UID:e.2050.907
SEQUENCE:3
DTSTAMP:20260420T185648Z
URL:https://business.lodichamber.com/events/details/lord-blood-rah-s-nerve-wrackin-theater-10-10-2015-907
END:VEVENT

END:VCALENDAR
