BEGIN:VCALENDAR
VERSION:2.0
PRODID:-//ChamberMaster//Event Calendar 2.0//EN
METHOD:PUBLISH
X-PUBLISHED-TTL:P3D
REFRESH-INTERVAL:P3D
CALSCALE:GREGORIAN
BEGIN:VEVENT
DTSTART:20150515T003000Z
DTEND:20150515T020000Z
X-MICROSOFT-CDO-ALLDAYEVENT:FALSE
SUMMARY:Love's Travel Stop Ribbon Cutting
DESCRIPTION:Join us by celebrating Love's Travel Stops Ribbon Cutting!
X-ALT-DESC;FMTTYPE=text/html:Join us by celebrating Love&#39\;s Travel Stops Ribbon Cutting!
LOCATION:1-5\, exit Hwy 12
UID:e.2050.825
SEQUENCE:3
DTSTAMP:20260421T021117Z
URL:https://business.lodichamber.com/events/details/love-s-travel-stop-ribbon-cutting-05-14-2015-825
END:VEVENT

END:VCALENDAR
