BEGIN:VCALENDAR
VERSION:2.0
PRODID:-//ChamberMaster//Event Calendar 2.0//EN
METHOD:PUBLISH
X-PUBLISHED-TTL:P3D
REFRESH-INTERVAL:P3D
CALSCALE:GREGORIAN
BEGIN:VEVENT
DTSTART:20150327T001500Z
DTEND:20150327T021500Z
X-MICROSOFT-CDO-ALLDAYEVENT:FALSE
SUMMARY:March Mixer Business Expo with Lodi Chamber and San Joaquin County Hispanic Chamber of Commerce
DESCRIPTION:Join us at beautiful Watts Winery for networking\, appetizers\, wine\, live music and much more! If you are interested in having a space to promote your business contact Chet Somera at csomera@lodichamber.com
X-ALT-DESC;FMTTYPE=text/html:Join us at beautiful Watts Winery for networking\, appetizers\, wine\, live music and much more! If you are interested in having a space to promote your business contact Chet Somera at <a href="mailto:csomera@lodichamber.com">csomera@lodichamber.com&nbsp\;</a>
LOCATION:Watts Winery 17036 N. Locust Tree Road - Lodi
UID:e.2050.425
SEQUENCE:3
DTSTAMP:20260421T043404Z
URL:https://business.lodichamber.com/events/details/march-mixer-business-expo-with-lodi-chamber-and-san-joaquin-county-hispanic-chamber-of-commerce-03-26-2015-425
END:VEVENT

END:VCALENDAR
