BEGIN:VCALENDAR
VERSION:2.0
PRODID:-//ChamberMaster//Event Calendar 2.0//EN
METHOD:PUBLISH
X-PUBLISHED-TTL:P3D
REFRESH-INTERVAL:P3D
CALSCALE:GREGORIAN
BEGIN:VEVENT
DTSTART:20150420T000000Z
DTEND:20150420T040000Z
X-MICROSOFT-CDO-ALLDAYEVENT:FALSE
SUMMARY:Marion Meadows & Friends - "A Night of Smooth Jazz"
DESCRIPTION:One of the hottest contemporary jazz saxophonist\, composer and recording artist. His music has been described as a combination of Jazz\, R&B\, Pop and Acid Jazz. Also appearing\, Floyd Comfort\, Kimball Hooker\, and Shawn Raiford. Presented by SMA Entertainment.
X-ALT-DESC;FMTTYPE=text/html:One of the hottest contemporary jazz saxophonist\, composer and recording artist. His music has been described as a combination of Jazz\, R&amp\;B\, Pop and Acid Jazz. Also appearing\, Floyd Comfort\, Kimball Hooker\, and Shawn Raiford. Presented by SMA Entertainment.
LOCATION:Hutchins Street Square 125 S. Hutchins St. Lodi\, CA 95240
UID:e.2050.388
SEQUENCE:3
DTSTAMP:20260421T031755Z
URL:https://business.lodichamber.com/events/details/marion-meadows-friends-a-night-of-smooth-jazz-04-19-2015-388
END:VEVENT

END:VCALENDAR
