BEGIN:VCALENDAR
VERSION:2.0
PRODID:-//ChamberMaster//Event Calendar 2.0//EN
METHOD:PUBLISH
X-PUBLISHED-TTL:P3D
REFRESH-INTERVAL:P3D
CALSCALE:GREGORIAN
BEGIN:VEVENT
DTSTART:20141106T190000Z
DTEND:20141106T220000Z
X-MICROSOFT-CDO-ALLDAYEVENT:FALSE
SUMMARY:Mayor's State of the City
DESCRIPTION:Join Lodi Mayor Phil Katzakian for an informative luncheon as he reviews Lodi's 2014 accomplishments and looks towards the future. The State of the City promises to be one of the best networking opportuntities of the year.  Special guest speakers to be announced soon.
X-ALT-DESC;FMTTYPE=text/html:Join Lodi Mayor Phil Katzakian for an informative luncheon as he reviews Lodi&#39\;s 2014 accomplishments and looks towards the future. The State of the City promises to be one of the best networking opportuntities of the year. &nbsp\;Special guest speakers to be announced soon.
LOCATION:Hutchins Street Square - Kirst Hall 125 S. Hutchins St. Lodi
UID:e.2050.334
SEQUENCE:3
DTSTAMP:20260421T102035Z
URL:https://business.lodichamber.com/events/details/mayor-s-state-of-the-city-11-06-2014-334
END:VEVENT

END:VCALENDAR
