BEGIN:VCALENDAR
VERSION:2.0
PRODID:-//ChamberMaster//Event Calendar 2.0//EN
METHOD:PUBLISH
X-PUBLISHED-TTL:P3D
REFRESH-INTERVAL:P3D
CALSCALE:GREGORIAN
BEGIN:VEVENT
DTSTART:20150911T000000Z
DTEND:20150911T030000Z
X-MICROSOFT-CDO-ALLDAYEVENT:FALSE
SUMMARY:Member Summer BBQ and Business Expo
DESCRIPTION:Join us at our Member Summer BBQ & Business Expo! Mingle with members from Lodi\, Elk Grove and the Hispanic Chambers! Enjoy Lockeford Sausage\, Miller Hot Dogs\, Lakewood Meats\, Discover RV's Ribbon cutting\, Raffles and more!
X-ALT-DESC;FMTTYPE=text/html:Join us at our Member Summer BBQ &amp\; Business Expo! Mingle with members from Lodi\, Elk Grove and the Hispanic Chambers! Enjoy Lockeford Sausage\, Miller Hot Dogs\, Lakewood Meats\, Discover RV&#39\;s Ribbon cutting\, Raffles and more!
LOCATION:Discover RV 5860 W. Banner St. Lodi
UID:e.2050.869
SEQUENCE:3
DTSTAMP:20260420T215756Z
URL:https://business.lodichamber.com/events/details/member-summer-bbq-and-business-expo-09-10-2015-869
END:VEVENT

END:VCALENDAR
