BEGIN:VCALENDAR
VERSION:2.0
PRODID:-//ChamberMaster//Event Calendar 2.0//EN
METHOD:PUBLISH
X-PUBLISHED-TTL:P3D
REFRESH-INTERVAL:P3D
CALSCALE:GREGORIAN
BEGIN:VEVENT
DTSTART:20140604T020000Z
DTEND:20140604T040000Z
X-MICROSOFT-CDO-ALLDAYEVENT:FALSE
SUMMARY:Menopause The Musical
DESCRIPTION:Back for an encore performance\, this hilarious musical has entertained and inspired women from coast-to-coast and all over the world. This uplifting 90-minute production includes parodies from ?60?s\, ?70?s and the ?80?s. It culminates with a salute to women who are experiencing The Change.
X-ALT-DESC;FMTTYPE=text/html:Back for an encore performance\, this hilarious musical has entertained and inspired women from coast-to-coast and all over the world. This uplifting 90-minute production includes parodies from ?60?s\, ?70?s and the ?80?s. It culminates with a salute to women who are experiencing The Change.
LOCATION:Hutchins Street Square
UID:e.2050.263
SEQUENCE:3
DTSTAMP:20260421T174027Z
URL:https://business.lodichamber.com/events/details/menopause-the-musical-06-03-2014-263
END:VEVENT

END:VCALENDAR
