BEGIN:VCALENDAR
VERSION:2.0
PRODID:-//ChamberMaster//Event Calendar 2.0//EN
METHOD:PUBLISH
X-PUBLISHED-TTL:P3D
REFRESH-INTERVAL:P3D
CALSCALE:GREGORIAN
BEGIN:VEVENT
DTSTART:20141021T230000Z
DTEND:20141022T010000Z
X-MICROSOFT-CDO-ALLDAYEVENT:FALSE
SUMMARY:Middle School Honor Choir Open Auditions
DESCRIPTION:San Joaquin County Office of Education (SJCOE) in partnership with the San Joaquin County Music Educators? Association (SJCMEA) and Delta College Music Department\, will hold live auditions for the 2015 Middle School Honor Choir. Auditions will be held during October at five locations throughout the county. Students can audition at any location. Audition piece is America (My Country ?tis of Thee).
X-ALT-DESC;FMTTYPE=text/html:San Joaquin County Office of Education (SJCOE) in partnership with the San Joaquin County Music Educators? Association (SJCMEA) and Delta College Music Department\, will hold live auditions for the 2015 Middle School Honor Choir. Auditions will be held during October at five locations throughout the county. Students can audition at any location. Audition piece is America (My Country ?tis of Thee).
LOCATION:Lodi High - Choir Room #91 3 Pacific Ave\, Lodi 95242
UID:e.2050.318
SEQUENCE:3
DTSTAMP:20260421T114201Z
URL:https://business.lodichamber.com/events/details/middle-school-honor-choir-open-auditions-10-21-2014-318
END:VEVENT

END:VCALENDAR
