BEGIN:VCALENDAR
VERSION:2.0
PRODID:-//ChamberMaster//Event Calendar 2.0//EN
METHOD:PUBLISH
X-PUBLISHED-TTL:P3D
REFRESH-INTERVAL:P3D
CALSCALE:GREGORIAN
BEGIN:VEVENT
DTSTART:20150622T010000Z
DTEND:20150622T050000Z
X-MICROSOFT-CDO-ALLDAYEVENT:FALSE
SUMMARY:Moonlight Classic
DESCRIPTION:The Moonlight Classic is one of the oldest continuing Drum & Bugle Corps shows in the western United States. S.O.M.E. (Sponsors of Musical Enrichment) and Sacramento Mandarins Drum & Bugle Corps have teamed to bring you ?The Classics? ?The 36th Annual Moonlight Classic and in early July\, DCI Capital Classic. Family entertainment at its best! At Moonlight Classic\, food trucks will be available for your dining enjoyment from appetizer to dessert! Gates open at 4pm.
X-ALT-DESC;FMTTYPE=text/html:The Moonlight Classic is one of the oldest continuing Drum &amp\; Bugle Corps shows in the western United States. S.O.M.E. (Sponsors of Musical Enrichment) and Sacramento Mandarins Drum &amp\; Bugle Corps have teamed to bring you ?The Classics? ?The 36th Annual Moonlight Classic and in early July\, DCI Capital Classic. Family entertainment at its best! At Moonlight Classic\, food trucks will be available for your dining enjoyment from appetizer to dessert! Gates open at 4pm.
LOCATION:Sacramento City College\, Hughes Stadium 3835 Freeport Blvd Sacramento 95822
UID:e.2050.837
SEQUENCE:3
DTSTAMP:20260421T003924Z
URL:https://business.lodichamber.com/events/details/moonlight-classic-06-21-2015-837
END:VEVENT

END:VCALENDAR
