BEGIN:VCALENDAR
VERSION:2.0
PRODID:-//ChamberMaster//Event Calendar 2.0//EN
METHOD:PUBLISH
X-PUBLISHED-TTL:P3D
REFRESH-INTERVAL:P3D
CALSCALE:GREGORIAN
BEGIN:VEVENT
DTSTART:20150510T170000Z
DTEND:20150510T220000Z
X-MICROSOFT-CDO-ALLDAYEVENT:FALSE
SUMMARY:Mother?s Day at Micke Grove Zoo
DESCRIPTION:There are few better ways to celebrate mom?s special day than with a trip to Micke Grove Zoo on Mother's Day! Landing on May 10 this year\, we'll be celebrating the moms of all species with games\, crafts\, and fun educational activities. Guests will get to learn interesting facts about all of our animal moms and compare their own parenting stories! Need a gift idea for Mom? Adopt an animal for mom for Mother's Day online at http://www.mgzoo.com/zoo/micke-grove/animals-conservation/zoo-parent.htm
X-ALT-DESC;FMTTYPE=text/html:There are few better ways to celebrate mom?s special day than with a trip to Micke Grove Zoo on Mother&#39\;s Day! Landing on May 10 this year\, we&#39\;ll be celebrating the moms of all species with games\, crafts\, and fun educational activities. Guests will get to learn interesting facts about all of our animal moms and compare their own parenting stories! Need a gift idea for Mom? Adopt an animal for mom for Mother&#39\;s Day online at http://www.mgzoo.com/zoo/micke-grove/animals-conservation/zoo-parent.htm
LOCATION:Micke Grove Zoo 11793 N. Micke Grove Road Lodi\, CA 95240
UID:e.2050.604
SEQUENCE:3
DTSTAMP:20260421T021033Z
URL:https://business.lodichamber.com/events/details/mother-s-day-at-micke-grove-zoo-05-10-2015-604
END:VEVENT

END:VCALENDAR
