BEGIN:VCALENDAR
VERSION:2.0
PRODID:-//ChamberMaster//Event Calendar 2.0//EN
METHOD:PUBLISH
X-PUBLISHED-TTL:P3D
REFRESH-INTERVAL:P3D
CALSCALE:GREGORIAN
BEGIN:VEVENT
DTSTART:20150618T003000Z
DTEND:20150618T020000Z
X-MICROSOFT-CDO-ALLDAYEVENT:FALSE
SUMMARY:MPH Insurance Services - Ribbon Cutting
DESCRIPTION:Join us as we celebrate MPH Insurance Services joining the Chamber with their Ribbon Cutting.
X-ALT-DESC;FMTTYPE=text/html:Join us as we celebrate MPH Insurance Services joining the Chamber with their Ribbon Cutting.&nbsp\;
LOCATION:115 N. School Street Lodi
UID:e.2050.847
SEQUENCE:3
DTSTAMP:20260421T015954Z
URL:https://business.lodichamber.com/events/details/mph-insurance-services-ribbon-cutting-06-17-2015-847
END:VEVENT

END:VCALENDAR
