BEGIN:VCALENDAR
VERSION:2.0
PRODID:-//ChamberMaster//Event Calendar 2.0//EN
METHOD:PUBLISH
X-PUBLISHED-TTL:P3D
REFRESH-INTERVAL:P3D
CALSCALE:GREGORIAN
BEGIN:VEVENT
DTSTART:20160528T160000Z
DTEND:20160529T000000Z
X-MICROSOFT-CDO-ALLDAYEVENT:FALSE
SUMMARY:Muscle Car Madness Classic Car Auction
DESCRIPTION:Classic Car Auction with preview from 9:00-12:00 and auction at 12:00
X-ALT-DESC;FMTTYPE=text/html:Classic Car Auction with preview from 9:00-12:00 and auction at 12:00
LOCATION:Lodi Grape Pavilion 413 E Lockeford Street
UID:e.2050.984
SEQUENCE:3
DTSTAMP:20260420T082731Z
URL:https://business.lodichamber.com/events/details/muscle-car-madness-classic-car-auction-05-28-2016-984
END:VEVENT

END:VCALENDAR
